BEGIN:VCALENDAR
PRODID:-//eluceo/ical//2.0/EN
VERSION:2.0
CALSCALE:GREGORIAN
BEGIN:VEVENT
UID:2bb14ca7fbef2628a12c9107b9ab095b
DTSTAMP:20260421T213859Z
SUMMARY:Artist-in-Residence Weekend with Banot
DESCRIPTION:Jewish Federation of West-Central New Jersey\nCommunity Calenda
 r\nhttps://jfedwcnj.org/calendar/artist-in-residence-weekend-with-banot-15
 26495917\n\nTemple Beth- El's's Sisterhood presents and Artist- In- Reside
 nce weekend with Banot\n\nFriday October 26 8pm during Erev Shabbat Servic
 es \n\nSaturday October 27 Banot in concert \n\n7:15pm Wine and cheese r
 eception \n\n8pm concert 
DTSTART;TZID=America/New_York:20181026T200000
DTEND;TZID=America/New_York:20181027T190000
END:VEVENT
END:VCALENDAR
