BEGIN:VCALENDAR
PRODID:-//eluceo/ical//2.0/EN
VERSION:2.0
CALSCALE:GREGORIAN
BEGIN:VEVENT
UID:b3aa6d8fd029a1126d27d34b86f75e39
DTSTAMP:20260424T073315Z
SUMMARY:Art History Series: Ancient Jewish Art– Cara London
DESCRIPTION:Jewish Federation of West-Central New Jersey\nCommunity Calenda
 r\nhttps://jfedwcnj.org/calendar/art-history-series-ancient-jewish-art-car
 a-london\n\nSunday\, February 5\, 2017\, 10AM\nBagels and Coffee\nSuggeste
 d Donation - $5.00
DTSTART;TZID=America/New_York:20170205T100000
DTEND;TZID=America/New_York:20170205T120000
END:VEVENT
END:VCALENDAR
