BEGIN:VCALENDAR
PRODID:-//eluceo/ical//2.0/EN
VERSION:2.0
CALSCALE:GREGORIAN
BEGIN:VEVENT
UID:7c9cb818f0745d23e3b208f511f6a380
DTSTAMP:20260422T153429Z
SUMMARY:ARIEL SABAR\, VERITAS
DESCRIPTION:Jewish Federation of West-Central New Jersey\nCommunity Calenda
 r\nhttps://jfedwcnj.org/calendar/ariel-sabar-veritas-1600781552\n\nFrom Na
 tional Book Critics Circle Award-winning author Ariel Sabar\, the gripping
  true story of a sensational religious forgery and the scandal that shook 
 Harvard.\n\n In 2012\, Dr. Karen King\, a star professor at Harvard Divini
 ty School\, announced a blockbuster discovery at a scholarly conference ju
 st steps from the Vatican: She had found an ancient fragment of papyrus in
  which Jesus calls Mary Magdalene “my wife.” The tattered manuscript m
 ade international headlines. If early Christians...
DTSTART;TZID=America/New_York:20201116T200000
DTEND;TZID=America/New_York:20201116T210000
END:VEVENT
END:VCALENDAR
