BEGIN:VCALENDAR
PRODID:-//eluceo/ical//2.0/EN
VERSION:2.0
CALSCALE:GREGORIAN
BEGIN:VEVENT
UID:9b1fb7f065206e36b3de004be9a0c5f0
DTSTAMP:20260421T084157Z
SUMMARY:Any Given Day: Reelabilities Film Fest
DESCRIPTION:Jewish Federation of West-Central New Jersey\nCommunity Calenda
 r\nhttps://jfedwcnj.org/calendar/any-given-day-reelabilities-film-fest\n\n
 93 Minutes\n$10/person\n\n\nAdmission is complimentary for Irma Horowitz F
 ilm Series Patrons. In 2015\, in the midst of widespread defunding of comm
 unity mental health care programs across the country\, in Chicago\, the C
 ook County Jail has become a default treatment center for people living wi
 th mental illness. Filmed over five years\, their stories expose a system 
 designed for punishment\, yet used as a replacement for mental health care
 . The absence of support takes a toll on family member...
DTSTART;TZID=America/New_York:20230201T130000
DTEND;TZID=America/New_York:20230201T150000
END:VEVENT
END:VCALENDAR
