BEGIN:VCALENDAR
PRODID:-//eluceo/ical//2.0/EN
VERSION:2.0
CALSCALE:GREGORIAN
BEGIN:VEVENT
UID:a3c52b91ac70b6dee8e96c852b7774dd
DTSTAMP:20260424T013524Z
SUMMARY:Annual Picnic
DESCRIPTION:Jewish Federation of West-Central New Jersey\nCommunity Calenda
 r\nhttps://jfedwcnj.org/calendar/annual-picnic-1472171707\n\nThis is an an
 nual event to mark the end of summer and the start of getting ready for th
 e High Holidays.
DTSTART;TZID=America/New_York:20160828T160000
DTEND;TZID=America/New_York:20160828T200000
END:VEVENT
END:VCALENDAR
