BEGIN:VCALENDAR
PRODID:-//eluceo/ical//2.0/EN
VERSION:2.0
CALSCALE:GREGORIAN
BEGIN:VEVENT
UID:baee2c54d875a17ec00c4573456bd1da
DTSTAMP:20260422T021500Z
SUMMARY:Annual JFedSHAW and SSBJCC Meeting
DESCRIPTION:Jewish Federation of West-Central New Jersey\nCommunity Calenda
 r\nhttps://jfedwcnj.org/calendar/annual-jfedshaw-and-ssbjcc-meeting-145098
 6626\n\n
DTSTART;TZID=America/New_York:20160607T183000
DTEND;TZID=America/New_York:20160607T210000
END:VEVENT
END:VCALENDAR
