BEGIN:VCALENDAR
PRODID:-//eluceo/ical//2.0/EN
VERSION:2.0
CALSCALE:GREGORIAN
BEGIN:VEVENT
UID:4564623f61c58de11a8450fcc4754d04
DTSTAMP:20260421T151305Z
SUMMARY:Annual Business Networking Group's Bar-B-Que!
DESCRIPTION:Jewish Federation of West-Central New Jersey\nCommunity Calenda
 r\nhttps://jfedwcnj.org/calendar/annual-business-networking-groups-bar-b-q
 ue-1504276771\n\nJoin the Business Networking Group for a laid back evenin
 g of good food\, drink and networking!\nMake sure to purchase your tickets
  in advance to get the Early Bird Pricing! $35 online or $40 at the door!\
 n\nThe BNG is co-chaired by Ken Kaplan & Michael Lehner
DTSTART;TZID=America/New_York:20170913T180000
DTEND;TZID=America/New_York:20170913T200000
END:VEVENT
END:VCALENDAR
