BEGIN:VCALENDAR
PRODID:-//eluceo/ical//2.0/EN
VERSION:2.0
CALSCALE:GREGORIAN
BEGIN:VEVENT
UID:97a965a8bfb2e33664fb754109954f76
DTSTAMP:20260421T123511Z
SUMMARY:ANNE FRANK IN TRANSLATION VIRTUAL OPENING
DESCRIPTION:Jewish Federation of West-Central New Jersey\nCommunity Calenda
 r\nhttps://jfedwcnj.org/calendar/anne-frank-in-translation-virtual-opening
 \n\nAdina Langer\, Senior Curator for Museums\, Archives\, and Rare Books 
 at Kennesaw State University\, will discuss the ideas of translation and t
 ransformation that animate the Anne Frank in Translation exhibition. Commu
 nity members in grades 8 and older are invited to attend the virtual openi
 ng. There is no fee to attend\, but registration is required. https://rari
 tanval-edu.zoom.us/webinar/register/WN_aw65ik0rTD--x8flTo2vow#/registratio
 n
DTSTART;TZID=America/New_York:20250117T100000
DTEND;TZID=America/New_York:20250117T110000
END:VEVENT
END:VCALENDAR
