BEGIN:VCALENDAR
PRODID:-//eluceo/ical//2.0/EN
VERSION:2.0
CALSCALE:GREGORIAN
BEGIN:VEVENT
UID:836dd84de297e1950d0c42cab71ff4a8
DTSTAMP:20260423T092928Z
SUMMARY:ANNE FRANK IN TRANSLATION EXHIBITION OPENS
DESCRIPTION:Jewish Federation of West-Central New Jersey\nCommunity Calenda
 r\nhttps://jfedwcnj.org/calendar/anne-frank-in-translation-exhibition-open
 s\n\nSchool and community groups are invited to view a new exhibition at R
 aritan Valley Community College\, Anne Frank in Translation\, on display J
 anuary 6-May 15.\n\nThe eight-panel exhibition highlights Anne Frank’s e
 nduring legacy and her role as a powerful symbol of the Holocaust. Anne Fr
 ank in Translation illuminates the process of Holocaust commemoration and 
 the role played by editors\, publishers\, translators\, playwrights\, cura
 tors\, composers\, and performers through the preservation and pub...
DTSTART;TZID=America/New_York:20250115T000000
DTEND;TZID=America/New_York:20250115T120000
END:VEVENT
END:VCALENDAR
