BEGIN:VCALENDAR
PRODID:-//eluceo/ical//2.0/EN
VERSION:2.0
CALSCALE:GREGORIAN
BEGIN:VEVENT
UID:78c66bfe4d6c7f2c15cfe650ebae05b9
DTSTAMP:20260422T025931Z
SUMMARY:Angela Himsel-A River Could be  a Tree
DESCRIPTION:Jewish Federation of West-Central New Jersey\nCommunity Calenda
 r\nhttps://jfedwcnj.org/calendar/angela-himsel-a-river-could-be--a-tree-15
 38072765\n\nAngela Himsel was raised in a German-American family\, one of 
 eleven children who shared a single bathroom in their rented ramshackle fa
 rmhouse in Indiana. The Himsel's followed an evangelical branch of Christi
 anity - the Worldwide Church of God - which espoused a doomsday philosophy
 . Only faith in Jesus\, the Bible\, significant tithing\, and the church's
  leader could save them from the evils of American culture - divorce\, tel
 evision\, makeup\, and even medicine and her own form of salvation - as ..
 .
DTSTART;TZID=America/New_York:20181007T120000
DTEND;TZID=America/New_York:20181007T140000
END:VEVENT
END:VCALENDAR
