BEGIN:VCALENDAR
PRODID:-//eluceo/ical//2.0/EN
VERSION:2.0
CALSCALE:GREGORIAN
BEGIN:VEVENT
UID:43bdbc31ad447fdf0221f1cc88364a7c
DTSTAMP:20260422T225935Z
SUMMARY:An Eyewitness Account of the Cambodian Genocide
DESCRIPTION:Jewish Federation of West-Central New Jersey\nCommunity Calenda
 r\nhttps://jfedwcnj.org/calendar/an-eyewitness-account-of-the-cambodian-ge
 nocide\n\nAn Eyewitness Account of the Cambodian Genocide\n\nFriday\, Sept
 ember 22nd\, 10 am - 11 am (Online)\n\nIn conjunction with the exhibition\
 , the Institute of Holocaust and Genocide Studies will be offering online 
 programs this fall. Author Loung Ung will present An Eyewitness Account of
  the Cambodian Genocide. Ung will discuss how she miraculously survived th
 e Khmer Rouge during the Cambodian Genocide. Ung is not only a survivor of
  genocide but also a bestselling author\, public speaker\, activist\,...
DTSTART;TZID=America/New_York:20230922T100000
DTEND;TZID=America/New_York:20230922T110000
END:VEVENT
END:VCALENDAR
