BEGIN:VCALENDAR
PRODID:-//eluceo/ical//2.0/EN
VERSION:2.0
CALSCALE:GREGORIAN
BEGIN:VEVENT
UID:24f8eca03b872c80d4624011b9d05185
DTSTAMP:20260423T182314Z
SUMMARY:An Evening with Steve Katz\,  Story and Song
DESCRIPTION:Jewish Federation of West-Central New Jersey\nCommunity Calenda
 r\nhttps://jfedwcnj.org/calendar/an-evening-with-steve-katz--story-and-son
 g-1730388164\n\nJoin us for a special evening with Steve Katz\, a founding
  member of Blood\, Sweat & Tears\, at the FJCC on December 14 at 7 PM! Thi
 s is your chance to see him one last time before he retires!Steve has trav
 eled the country\, captivating audiences with stories and songs from his i
 ncredible musical journey. He will take you back to the unforgettable musi
 c we all know and love. Don't miss this memorable night with Steve Katz 
 – it’s sure to be an experience you'll cherish forever!As a talented g
 u...
DTSTART;TZID=America/New_York:20241214T190000
DTEND;TZID=America/New_York:20241214T210000
END:VEVENT
END:VCALENDAR
