BEGIN:VCALENDAR
PRODID:-//eluceo/ical//2.0/EN
VERSION:2.0
CALSCALE:GREGORIAN
BEGIN:VEVENT
UID:4fe74fb690de455f8a4b18349139fdf5
DTSTAMP:20260421T032553Z
SUMMARY:An Evening of Latin Music
DESCRIPTION:Jewish Federation of West-Central New Jersey\nCommunity Calenda
 r\nhttps://jfedwcnj.org/calendar/an-evening-of-latin-music-1540151441\n\nT
 rio Metaphora presents a program of Latin songs and dances: from Spain\, M
 exico\, Rio de Janeiro\, and Buenos Aires\n\nDoors open at 7pm. Admission:
   $10 for adults\, $5 for college students with ID\, $5 for children ages 
 10-17. Children under 10 &ndash\; free.  Light refreshments will be availa
 ble for purchase.\n
DTSTART;TZID=America/New_York:20181117T193000
DTEND;TZID=America/New_York:20181117T210000
END:VEVENT
END:VCALENDAR
