BEGIN:VCALENDAR
PRODID:-//eluceo/ical//2.0/EN
VERSION:2.0
CALSCALE:GREGORIAN
BEGIN:VEVENT
UID:639e347680083a93007d687e6ebf016c
DTSTAMP:20260423T022556Z
SUMMARY:An Evening of Farm-to-Table Cooking and Tasting
DESCRIPTION:Jewish Federation of West-Central New Jersey\nCommunity Calenda
 r\nhttps://jfedwcnj.org/calendar/an-evening-of-farm-to-table-cooking-and-t
 asting-1520528367\n\nJoin the Women’s Philanthropy Division of the Jewis
 h Federation for an interactive cooking demonstration and tasting\, with R
 achel Weston\, cookbook author and culinary educator.\nAll ingredients are
  being sourced from local farms.\n\nCouvert: $36\nRSVP: jfedshaw.org/women
  or 908-758-2003
DTSTART;TZID=America/New_York:20180517T190000
DTEND;TZID=America/New_York:20180517T210000
END:VEVENT
END:VCALENDAR
