BEGIN:VCALENDAR
PRODID:-//eluceo/ical//2.0/EN
VERSION:2.0
CALSCALE:GREGORIAN
BEGIN:VEVENT
UID:d9aed0d2038ed86a7da9d7d7f193f84b
DTSTAMP:20260422T161225Z
SUMMARY:American Shtetl: The Making of Kiryas Joel
DESCRIPTION:Jewish Federation of West-Central New Jersey\nCommunity Calenda
 r\nhttps://jfedwcnj.org/calendar/american-shtetl-the-making-of-kiryas-joel
 -1659047744\n\nSettled in the mid-1970s by a small contingent of Hasidic f
 amilies\, Kiryas Joel is an American town with few parallels in Jewish his
 tory—but many precedents among religious communities in the United State
 s. Professors Nomi M. Stolzenberg and David N. Myers will discuss their ne
 w book\, which tells the story of how this group of pious\, Yiddish-speaki
 ng Jews has grown to become a thriving insular enclave and a powerful loca
 l government in upstate New York.\n\nFree and open to the public\; advanc.
 ..
DTSTART;TZID=America/New_York:20221020T190000
DTEND;TZID=America/New_York:20221020T200000
END:VEVENT
END:VCALENDAR
