BEGIN:VCALENDAR
PRODID:-//eluceo/ical//2.0/EN
VERSION:2.0
CALSCALE:GREGORIAN
BEGIN:VEVENT
UID:adb471609b6529799e1120028b391b6b
DTSTAMP:20260423T195352Z
SUMMARY:Amalia Hoffman - Dreidel Day
DESCRIPTION:Jewish Federation of West-Central New Jersey\nCommunity Calenda
 r\nhttps://jfedwcnj.org/calendar/amalia-hoffman---dreidel-day-1538161373\n
 \nCome out and join us for this fun-filled morning. Visit with 8 “charac
 ters\,”while\nyou enjoy a delicious breakfast dressed as your favorite 
 “character.” For\nthose with infants and toddlers\, listen to author A
 malia Hoffman read her\nbook Dreidel Day. When a cat spins a dreidel on th
 e first day of Chanukah\,\nthe kitty embarks on an amusing eight-day adven
 ture!\nBreakfast\, Music and Arts & Crafts.
DTSTART;TZID=America/New_York:20181118T100000
DTEND;TZID=America/New_York:20181118T120000
END:VEVENT
END:VCALENDAR
