BEGIN:VCALENDAR
PRODID:-//eluceo/ical//2.0/EN
VERSION:2.0
CALSCALE:GREGORIAN
BEGIN:VEVENT
UID:34675d99d2ef563909c639e9622db6ea
DTSTAMP:20260422T020403Z
SUMMARY:Am Israel Chai: Israel @ 75
DESCRIPTION:Jewish Federation of West-Central New Jersey\nCommunity Calenda
 r\nhttps://jfedwcnj.org/calendar/am-israel-chai-israel--75-1679320091\n\nA
 m Israel Chai: Israel @ 75\nFor More Information:\nhttps://www.cbibr.org/e
 vent/am-israel-chai--75.html
DTSTART;TZID=America/New_York:20230423T190000
DTEND;TZID=America/New_York:20230423T210000
END:VEVENT
END:VCALENDAR
