BEGIN:VCALENDAR
PRODID:-//eluceo/ical//2.0/EN
VERSION:2.0
CALSCALE:GREGORIAN
BEGIN:VEVENT
UID:7f5879b2a73232418b36a55ff4121122
DTSTAMP:20260422T131332Z
SUMMARY:Altering the Human Genome: A Jewish Perspective
DESCRIPTION:Jewish Federation of West-Central New Jersey\nCommunity Calenda
 r\nhttps://jfedwcnj.org/calendar/altering-the-human-genome-a-jewish-perspe
 ctive-1709312367\n\nOn Sunday\, March 17th\,  Temple Har Shalom's Scientis
 ts in the Synagogue Committee will present their second program in their s
 eries. Come and learn about human genomes and the Jewish perspective on al
 tering them. We are proud to be hosting Dr. John Loike\, Ph.D. as our gues
 t speaker and a member of our panel. Registration is required at: https://
 ths.shulcloud.com/form/scientists-in-the-synagogueMarch172024.html
DTSTART;TZID=America/New_York:20240317T093000
DTEND;TZID=America/New_York:20240317T113000
END:VEVENT
END:VCALENDAR
