BEGIN:VCALENDAR
PRODID:-//eluceo/ical//2.0/EN
VERSION:2.0
CALSCALE:GREGORIAN
BEGIN:VEVENT
UID:dd34589a39b3bed8de97fb5d5c734f46
DTSTAMP:20260422T080444Z
SUMMARY:Allen Salkin From Scratch: Inside the Food Network
DESCRIPTION:Jewish Federation of West-Central New Jersey\nCommunity Calenda
 r\nhttps://jfedwcnj.org/calendar/allen-salkin-from-scratch-inside-the-food
 -network-1414525815\n\nAre you addicted to the Food Network? You won’t w
 ant to miss Allen Salkin’s look Inside the Food Network. In October 1993
 \, a tiny start-up called the Food Network debuted to little notice. Twent
 y years later\, the channel airs in over 100 million homes\, earns over ha
 lf a billion dollars a year\, and features an abundance of talent with maj
 or star power. Allen Salkin’s book takes us beyond the conference rooms\
 , studios\, and restaurants to give us exclusive interviews and the inside
  scoop o...
DTSTART;TZID=America/New_York:20141203T120000
DTEND;TZID=America/New_York:20141203T140000
END:VEVENT
END:VCALENDAR
