BEGIN:VCALENDAR
PRODID:-//eluceo/ical//2.0/EN
VERSION:2.0
CALSCALE:GREGORIAN
BEGIN:VEVENT
UID:24cebb3321d27fae44c3aa6264b99dac
DTSTAMP:20260424T204047Z
SUMMARY:All Who Go Do Not Return
DESCRIPTION:Jewish Federation of West-Central New Jersey\nCommunity Calenda
 r\nhttps://jfedwcnj.org/calendar/all-who-go-do-not-return-1486748669\n\nSh
 ulem Deen will discuss his memoir\, All Who Go Do Not Return\, winner of t
 he National Jewish Book Award in 2015. A moving and revealing exploration 
 of Hasidic life\, the book explores Deen’s struggles with faith\, family
 \, and community as he grows up in\, and then chooses to leave\, the Skver
 ers\, one of America’s most insular Hasidic sects. A columnist for Forwa
 rd\, Deen’s articles have appeared in the New Republic\, Salon\, and Tab
 let. He is a member of the board of Footsteps\, an organization...
DTSTART;TZID=America/New_York:20170426T193000
DTEND;TZID=America/New_York:20170426T210000
END:VEVENT
END:VCALENDAR
