BEGIN:VCALENDAR
PRODID:-//eluceo/ical//2.0/EN
VERSION:2.0
CALSCALE:GREGORIAN
BEGIN:VEVENT
UID:2b0e2adb1f85688a94a2880f1b386479
DTSTAMP:20260424T015158Z
SUMMARY:Alef Isn't Enough
DESCRIPTION:Jewish Federation of West-Central New Jersey\nCommunity Calenda
 r\nhttps://jfedwcnj.org/calendar/alef-isnt-enough\n\nInstructor: Sarah Glu
 ck\n\n​Have you ever sat in services and said to yourself\, I wish I cou
 ld understand what I'm saying? (Who hasn't?) If you know how to decode the
  alef-bet (red phnetically)\, this class will boost your reading skills as
  you learn the structure and meaning of select passages from the Shabbat a
 nd holiday liturgy and ritual. Key vocabulary\, word roots\, and rudimenta
 ry grammer will guide you towards understanding. Expect many "aha" moments
 . \n\nDates: October 25\; November 1 ...
DTSTART;TZID=America/New_York:20151025T100000
DTEND;TZID=America/New_York:20151025T110000
END:VEVENT
END:VCALENDAR
