BEGIN:VCALENDAR
PRODID:-//eluceo/ical//2.0/EN
VERSION:2.0
CALSCALE:GREGORIAN
BEGIN:VEVENT
UID:368affc5454bddf4430e317b3d4baf9a
DTSTAMP:20260420T040103Z
SUMMARY:AIPAC Shabbaton at Congreation AABJ&D in West Orange 
DESCRIPTION:Jewish Federation of West-Central New Jersey\nCommunity Calenda
 r\nhttps://jfedwcnj.org/calendar/aipac-shabbaton-at-congreation-aabjd-in-w
 est-orange-1444327304\n\nAIPAC will be holding a Shabbaton at Congregation
  AABJ&D in West Orange. For more details please contact AIPAC's New Jersey
  Director\, Alexa Silverman at asilverman@aipac.org. This is a private eve
 nt.
DTSTART;TZID=America/New_York:20151204T190000
DTEND;TZID=America/New_York:20151205T140000
END:VEVENT
END:VCALENDAR
