BEGIN:VCALENDAR
PRODID:-//eluceo/ical//2.0/EN
VERSION:2.0
CALSCALE:GREGORIAN
BEGIN:VEVENT
UID:ff3616f65c84a65e9b6c7432d852fbb8
DTSTAMP:20260422T235757Z
SUMMARY:AIPAC Rabbinic Roundtable in Marlboro
DESCRIPTION:Jewish Federation of West-Central New Jersey\nCommunity Calenda
 r\nhttps://jfedwcnj.org/calendar/aipac-rabbinic-roundtable-in-marlboro-144
 3359096\n\nAIPAC is hosting a rabbinic roundtable in Marlboro with Rabbi P
 ont of the Marlboro Jewish Center. This event features AIPAC's Dr. Sharon 
 Goldman and is by invite only.
DTSTART;TZID=America/New_York:20151001T113000
DTEND;TZID=America/New_York:20151001T123000
END:VEVENT
END:VCALENDAR
