BEGIN:VCALENDAR
PRODID:-//eluceo/ical//2.0/EN
VERSION:2.0
CALSCALE:GREGORIAN
BEGIN:VEVENT
UID:d599a48e2b3737d7d3117d79e084d32b
DTSTAMP:20260421T193506Z
SUMMARY:AIPAC Pre-Policy Conference Briefing with Ed Miller  
DESCRIPTION:Jewish Federation of West-Central New Jersey\nCommunity Calenda
 r\nhttps://jfedwcnj.org/calendar/aipac-pre-policy-conference-briefing-with
 -ed-miller-1453308366\n\nThis briefing is for NJ delegates who are interes
 ted or attending Policy Conference 2016 . AIPAC Policy Conference is takin
 g place this year from March 20-22 in Washington\, D.C. If you would like 
 to join us for the three most transformative days in the pro-Israel calend
 ar\, please contact Jackie Kelly\, AIPAC's Associate Director NJ\, at 646-
 360-1513 or jkelly@aipac.org.
DTSTART;TZID=America/New_York:20160224T183000
DTEND;TZID=America/New_York:20160224T210000
END:VEVENT
END:VCALENDAR
