BEGIN:VCALENDAR
PRODID:-//eluceo/ical//2.0/EN
VERSION:2.0
CALSCALE:GREGORIAN
BEGIN:VEVENT
UID:e8be1aaf53ea5a9372825ecc75f72882
DTSTAMP:20260422T174544Z
SUMMARY:AIPAC Policy Conference 2017
DESCRIPTION:Jewish Federation of West-Central New Jersey\nCommunity Calenda
 r\nhttps://jfedwcnj.org/calendar/aipac-policy-conference-2017-1484582283\n
 \nAIPAC will be holding their annual Policy Conference from March 26-28\, 
 2017. If you are interested in joining the NJ delegation\, please contact 
 Jackie Kelly at jkelly@aipac.org or 646-360-1513.
DTSTART;TZID=America/New_York:20170326T180000
DTEND;TZID=America/New_York:20170328T160000
END:VEVENT
END:VCALENDAR
