BEGIN:VCALENDAR
PRODID:-//eluceo/ical//2.0/EN
VERSION:2.0
CALSCALE:GREGORIAN
BEGIN:VEVENT
UID:72e8ccf9db0c920d302f3e6297b52fe5
DTSTAMP:20260422T015827Z
SUMMARY:AIPAC Northeast Gala at David Geffen Hall
DESCRIPTION:Jewish Federation of West-Central New Jersey\nCommunity Calenda
 r\nhttps://jfedwcnj.org/calendar/aipac-northeast-gala-at-david-geffen-hall
 -1484581790\n\nAIPAC Northeast Region will be holding their annual Northea
 st Gala on January 18 at David Geffen Hall featuring Deputy Minister for D
 iplomacy in the Prime Minister's office\, Michael Oren\, and Tzipi Livni\,
  MK\, Former Foreign Minister and Co-Leader of the Zionist Union. This eve
 nt is reserved for those who contribute a minimum of $1\,800 to AIPAC's an
 nual campaign. For more information\, please contact Jackie Kelly at jkell
 y@aipac.org or 646-360-1513.
DTSTART;TZID=America/New_York:20170118T200000
DTEND;TZID=America/New_York:20170118T210000
END:VEVENT
END:VCALENDAR
