BEGIN:VCALENDAR
PRODID:-//eluceo/ical//2.0/EN
VERSION:2.0
CALSCALE:GREGORIAN
BEGIN:VEVENT
UID:d14b8d5b3a16ce110a131459a7361a30
DTSTAMP:20260423T200055Z
SUMMARY:AIPAC NJ Temple Har Shalom briefing featuring Jackie Kelly
DESCRIPTION:Jewish Federation of West-Central New Jersey\nCommunity Calenda
 r\nhttps://jfedwcnj.org/calendar/aipac-nj-temple-har-shalom-briefing-featu
 ring-jackie-kelly-1484599458\n\nAIPAC NJ will be address Temple Har Shalom
  in Warren about AIPAC and Policy Conference. Please contact Jackie Kelly 
 at jkelly@aipac.org or 646-360-1513 for more details.
DTSTART;TZID=America/New_York:20170124T073000
DTEND;TZID=America/New_York:20170124T210000
END:VEVENT
END:VCALENDAR
