BEGIN:VCALENDAR
PRODID:-//eluceo/ical//2.0/EN
VERSION:2.0
CALSCALE:GREGORIAN
BEGIN:VEVENT
UID:79c81ae7707f78af287c999708d7109b
DTSTAMP:20260423T223942Z
SUMMARY:AIPAC NJ Summer Dinner featuring Yossi Peled
DESCRIPTION:Jewish Federation of West-Central New Jersey\nCommunity Calenda
 r\nhttps://jfedwcnj.org/calendar/aipac-nj-summer-dinner-featuring-yossi-pe
 led-1484169058\n\nAIPAC NJ will be holding its annual Summer Dinner on May
  22. This event is exclusively open to our Club members who contribute a m
 inimum of $1\,800 to AIPAC's annual campaign. If you are interested in lea
 rning more about AIPAC or attend this event\, please contact Jackie Kelly 
 at jkelly@aipac.org or 646-360-1513.
DTSTART;TZID=America/New_York:20170522T193000
DTEND;TZID=America/New_York:20170522T210000
END:VEVENT
END:VCALENDAR
