BEGIN:VCALENDAR
PRODID:-//eluceo/ical//2.0/EN
VERSION:2.0
CALSCALE:GREGORIAN
BEGIN:VEVENT
UID:7d8590f2c80a92a93946d2822935c0ab
DTSTAMP:20260421T071441Z
SUMMARY:AIPAC NJ Summer Dinner at Crestmont Country Club
DESCRIPTION:Jewish Federation of West-Central New Jersey\nCommunity Calenda
 r\nhttps://jfedwcnj.org/calendar/aipac-nj-summer-dinner-1449760391\n\nAIPA
 C NJ will be holding it's annual Summer Dinner on June 21. For more inform
 ation please contact Jackie Kelly\, Associate Director\, at 646-360-1513 o
 r jkelly@aipac.org.
DTSTART;TZID=America/New_York:20160621T190000
DTEND;TZID=America/New_York:20160621T210000
END:VEVENT
END:VCALENDAR
