BEGIN:VCALENDAR
PRODID:-//eluceo/ical//2.0/EN
VERSION:2.0
CALSCALE:GREGORIAN
BEGIN:VEVENT
UID:b158802943bf118cad32e8ffb8821f74
DTSTAMP:20260423T184028Z
SUMMARY:AIPAC NJ pre-Policy Conference and Club briefing
DESCRIPTION:Jewish Federation of West-Central New Jersey\nCommunity Calenda
 r\nhttps://jfedwcnj.org/calendar/aipac-nj-pre-policy-conference-and-club-b
 riefing-1484239384\n\nAIPAC NJ will be holding its annual pre-PC and Club 
 member briefing featuring Dr. Sharon Goldman. For more information\, pleas
 e contact Jackie Kelly at 646-360-1513 or jkelly@aipac.org.
DTSTART;TZID=America/New_York:20170228T193000
DTEND;TZID=America/New_York:20170228T210000
END:VEVENT
END:VCALENDAR
