BEGIN:VCALENDAR
PRODID:-//eluceo/ical//2.0/EN
VERSION:2.0
CALSCALE:GREGORIAN
BEGIN:VEVENT
UID:8a109ad6a87ef42e7321bd6afee7298a
DTSTAMP:20260423T173439Z
SUMMARY:AIPAC NJ Council meeting 4
DESCRIPTION:Jewish Federation of West-Central New Jersey\nCommunity Calenda
 r\nhttps://jfedwcnj.org/calendar/aipac-nj-council-meeting-4-1484590838\n\n
 AIPAC NJ will be holding it's fourth and final Council meeting for the yea
 r.
DTSTART;TZID=America/New_York:20170906T193000
DTEND;TZID=America/New_York:20170906T210000
END:VEVENT
END:VCALENDAR
