BEGIN:VCALENDAR
PRODID:-//eluceo/ical//2.0/EN
VERSION:2.0
CALSCALE:GREGORIAN
BEGIN:VEVENT
UID:b845a45175c7a549c3cb62fb9e0557cd
DTSTAMP:20260421T080507Z
SUMMARY:AIPAC NJ Council Meeting 3
DESCRIPTION:Jewish Federation of West-Central New Jersey\nCommunity Calenda
 r\nhttps://jfedwcnj.org/calendar/aipac-nj-council-meeting-3-1484590764\n\n
 AIPAC NJ will be holding it's third Council meeting of the year.
DTSTART;TZID=America/New_York:20170510T193000
DTEND;TZID=America/New_York:20170510T210000
END:VEVENT
END:VCALENDAR
