BEGIN:VCALENDAR
PRODID:-//eluceo/ical//2.0/EN
VERSION:2.0
CALSCALE:GREGORIAN
BEGIN:VEVENT
UID:a0471ec769bfde9eda25043f757ce998
DTSTAMP:20260424T035954Z
SUMMARY:AIPAC NJ Council Meeting 2
DESCRIPTION:Jewish Federation of West-Central New Jersey\nCommunity Calenda
 r\nhttps://jfedwcnj.org/calendar/aipac-nj-council-meeting-2-1484590688\n\n
 AIPAC NJ will be holding it's second annual Council meeting.
DTSTART;TZID=America/New_York:20170403T193000
DTEND;TZID=America/New_York:20170404T153000
END:VEVENT
END:VCALENDAR
