BEGIN:VCALENDAR
PRODID:-//eluceo/ical//2.0/EN
VERSION:2.0
CALSCALE:GREGORIAN
BEGIN:VEVENT
UID:ec469f53a35ff100996015eefbde163f
DTSTAMP:20260422T072646Z
SUMMARY:AIPAC NJ Council Meeting 
DESCRIPTION:Jewish Federation of West-Central New Jersey\nCommunity Calenda
 r\nhttps://jfedwcnj.org/calendar/aipac-nj-council-meeting-1445540517\n\nTh
 is is a private meeting. Please contact Jackie Kelly\, AIPAC's Associate D
 irector for more details at jkelly@aipac.org or 646-360-1513.
DTSTART;TZID=America/New_York:20151209T193000
DTEND;TZID=America/New_York:20151209T210000
END:VEVENT
END:VCALENDAR
