BEGIN:VCALENDAR
PRODID:-//eluceo/ical//2.0/EN
VERSION:2.0
CALSCALE:GREGORIAN
BEGIN:VEVENT
UID:d7c4c41114a3e04764f5ef027dc6355d
DTSTAMP:20260423T195306Z
SUMMARY:AIPAC NJ Council meeting 1
DESCRIPTION:Jewish Federation of West-Central New Jersey\nCommunity Calenda
 r\nhttps://jfedwcnj.org/calendar/aipac-nj-council-meeting-1-1484590195\n\n
 AIPAC NJ will be holding it's first Council meeting of the year.
DTSTART;TZID=America/New_York:20170125T193000
DTEND;TZID=America/New_York:20170125T210000
END:VEVENT
END:VCALENDAR
