BEGIN:VCALENDAR
PRODID:-//eluceo/ical//2.0/EN
VERSION:2.0
CALSCALE:GREGORIAN
BEGIN:VEVENT
UID:d5229124933a65ce687543840888a06e
DTSTAMP:20260423T122446Z
SUMMARY:AIPAC NJ Community Wide event in Ocean & Monmouth County
DESCRIPTION:Jewish Federation of West-Central New Jersey\nCommunity Calenda
 r\nhttps://jfedwcnj.org/calendar/aipac-nj-community-wide-event-in-ocean--m
 onmouth-county-1484581076\n\nAIPAC NJ will be hosting a community wide eve
 nt at Congregation B'nai Israel in Toms River. The Jewish Federation of Oc
 ean County and Congregation B'nai Israel of Toms River will be co-hosting 
 this event. Associate Directors Max Jaffe & Jackie Kelly will be speaking 
 about AIPAC and addressing the importance of AIPAC's student program. For 
 more information\, please contact Jackie Kelly at jkelly@aipac.org or 646-
 360-1513.
DTSTART;TZID=America/New_York:20170208T191500
DTEND;TZID=America/New_York:20170208T203000
END:VEVENT
END:VCALENDAR
