BEGIN:VCALENDAR
PRODID:-//eluceo/ical//2.0/EN
VERSION:2.0
CALSCALE:GREGORIAN
BEGIN:VEVENT
UID:932c54c9aa1375191e6628e90d1396c7
DTSTAMP:20260422T134332Z
SUMMARY:AIPAC NJ Briefing
DESCRIPTION:Jewish Federation of West-Central New Jersey\nCommunity Calenda
 r\nhttps://jfedwcnj.org/calendar/aipac-nj-briefing-1461622129\n\nAIPAC NJ 
 will be holding a political briefing on June 6. For more details please co
 ntact Jackie Kelly\, AIPAC Associate Director at 646-360-1513 or jkelly@ai
 pac.org.
DTSTART;TZID=America/New_York:20160606T190000
DTEND;TZID=America/New_York:20160606T210000
END:VEVENT
END:VCALENDAR
