BEGIN:VCALENDAR
PRODID:-//eluceo/ical//2.0/EN
VERSION:2.0
CALSCALE:GREGORIAN
BEGIN:VEVENT
UID:957316aeb4af22bca13f249b6d9c830c
DTSTAMP:20260421T080523Z
SUMMARY:AIPAC NJ at Congregation B’nai Israel briefing
DESCRIPTION:Jewish Federation of West-Central New Jersey\nCommunity Calenda
 r\nhttps://jfedwcnj.org/calendar/aipac-nj-at-congregation-bnai-israel-brie
 fing-1484598925\n\nPhil Darivoff\, AIPAC Club member\, NJ Council member a
 nd National Board member will be speaking with the Boomers Club over Shabb
 at Dinner about the new Administration. If you know members of the synagog
 ue that you think should be at this dinner\, please contact Jackie Kelly a
 t jkelly@aipac.org or 646-360-1513.
DTSTART;TZID=America/New_York:20170120T180000
DTEND;TZID=America/New_York:20170120T200000
END:VEVENT
END:VCALENDAR
