BEGIN:VCALENDAR
PRODID:-//eluceo/ical//2.0/EN
VERSION:2.0
CALSCALE:GREGORIAN
BEGIN:VEVENT
UID:3b4477c8164366b4d5aa5579f7d2d4e1
DTSTAMP:20260423T093214Z
SUMMARY:AIPAC New Jersey Club Briefing
DESCRIPTION:Jewish Federation of West-Central New Jersey\nCommunity Calenda
 r\nhttps://jfedwcnj.org/calendar/aipac-new-jersey-club-briefing-1569442803
 \n\nAIPAC Club member kickoff event for 2020.
DTSTART;TZID=America/New_York:20191113T193000
DTEND;TZID=America/New_York:20191113T210000
END:VEVENT
END:VCALENDAR
