BEGIN:VCALENDAR
PRODID:-//eluceo/ical//2.0/EN
VERSION:2.0
CALSCALE:GREGORIAN
BEGIN:VEVENT
UID:36bbd591e667c8c88b531b330b6eba20
DTSTAMP:20260423T195114Z
SUMMARY:AIPAC New Jersey Annual Dinner
DESCRIPTION:Jewish Federation of West-Central New Jersey\nCommunity Calenda
 r\nhttps://jfedwcnj.org/calendar/aipac-new-jersey-annual-dinner-1568644113
 \n\nAIPAC New Jersey Annual Dinner for club members.
DTSTART;TZID=America/New_York:20200506T190000
DTEND;TZID=America/New_York:20200506T210000
END:VEVENT
END:VCALENDAR
