BEGIN:VCALENDAR
PRODID:-//eluceo/ical//2.0/EN
VERSION:2.0
CALSCALE:GREGORIAN
BEGIN:VEVENT
UID:2eca49ecc26cf27f2b7f8744c66e87e2
DTSTAMP:20260421T211950Z
SUMMARY:AIPAC Leadership Dinner 
DESCRIPTION:Jewish Federation of West-Central New Jersey\nCommunity Calenda
 r\nhttps://jfedwcnj.org/calendar/aipac-leadership-dinner-1443357891\n\nAIP
 AC is hosting a leadership dinner at a private home. AIPAC National Board 
 Members Phil Darivoff and Steve Klinghoffer will be speaking. This is a pr
 ivate event.
DTSTART;TZID=America/New_York:20151007T193000
DTEND;TZID=America/New_York:20151007T210000
END:VEVENT
END:VCALENDAR
