BEGIN:VCALENDAR
PRODID:-//eluceo/ical//2.0/EN
VERSION:2.0
CALSCALE:GREGORIAN
BEGIN:VEVENT
UID:817918842f10c0e111fd8efc55710307
DTSTAMP:20260421T025400Z
SUMMARY:AIPAC event with the Orthodox Forum of Edison and Highland Park 
DESCRIPTION:Jewish Federation of West-Central New Jersey\nCommunity Calenda
 r\nhttps://jfedwcnj.org/calendar/aipac-event-with-the-orthodox-forum-of-ed
 ison-and-highland-park-1444330051\n\nAIPAC will be hosting an event with t
 he Orthodox Forum featuring Dr. Sharon Goldman\, AIPAC's Northeast Politic
 al Director and Labriah Lee\, AIPAC's Northeast Outreach Director. For mor
 e information please contact Jackie Kelly\, AIPAC's New Jersey Associate D
 irector\, at jkelly@aipac.org or 646-360-1513. This is a private event.
DTSTART;TZID=America/New_York:20160109T200000
DTEND;TZID=America/New_York:20160109T213000
END:VEVENT
END:VCALENDAR
