BEGIN:VCALENDAR
PRODID:-//eluceo/ical//2.0/EN
VERSION:2.0
CALSCALE:GREGORIAN
BEGIN:VEVENT
UID:b11ee73d97b84ee6ec74d9e9de5f7af4
DTSTAMP:20260421T151814Z
SUMMARY:AIPAC briefing & screening of Fauda featuring Avi Issacharoff & Lio
 r Raz
DESCRIPTION:Jewish Federation of West-Central New Jersey\nCommunity Calenda
 r\nhttps://jfedwcnj.org/calendar/aipac-event-featuring-avi-assacharoff-wit
 h-a-screening-with-of-fauda-1463687442\n\nAIPAC will be holding a briefing
  on Wednesday\, July 20 for AIPAC’s Capitol Club plus members. If you wo
 uld like more information please contact Jackie Kelly\, AIPAC’s Associat
 e Director\, at 646-360-1513 or jkelly@aipac.org.\n\n \n\nAbout Fauda \n\
 nFauda (Arabic for “chaos”) is an Israeli television series developed 
 by Avi Issacharoff and Lior Raz\, based on their experiences during their 
 military service in an undercover counter-terrorism unit of the IDF. The s
 how focuses on an elite I...
DTSTART;TZID=America/New_York:20160720T190000
DTEND;TZID=America/New_York:20160720T210000
END:VEVENT
END:VCALENDAR
