BEGIN:VCALENDAR
PRODID:-//eluceo/ical//2.0/EN
VERSION:2.0
CALSCALE:GREGORIAN
BEGIN:VEVENT
UID:acd16ce2d45d3fa2bcc81ba02ec0a9ad
DTSTAMP:20260423T093540Z
SUMMARY:AIPAC event at Temple Beth El of Somerset
DESCRIPTION:Jewish Federation of West-Central New Jersey\nCommunity Calenda
 r\nhttps://jfedwcnj.org/calendar/aipac-event-at-temple-beth-el-of-somerset
 -1444323595\n\nAIPAC will be holding an event at Temple Beth El of Somerse
 t. Alexa Silverman\, AIPAC's New Jersey Director\, will be speaking. This 
 is a private event. For more information please contact Jackie Kelly\, AIP
 AC's Associate Director at jkelly@aipac.org or at 646-360-1513 for more de
 tails.
DTSTART;TZID=America/New_York:20151117T190000
DTEND;TZID=America/New_York:20151117T203000
END:VEVENT
END:VCALENDAR
