BEGIN:VCALENDAR
PRODID:-//eluceo/ical//2.0/EN
VERSION:2.0
CALSCALE:GREGORIAN
BEGIN:VEVENT
UID:812c1867d8555db6bdff3f28f89e49fe
DTSTAMP:20260421T082315Z
SUMMARY:AIPAC Emerging Leaders Initiative Event with Amanda Berman
DESCRIPTION:Jewish Federation of West-Central New Jersey\nCommunity Calenda
 r\nhttps://jfedwcnj.org/calendar/aipac-emerging-leaders-initiative-event-w
 ith-amanda-berman-1574091583\n\nThis is our AIPAC NJ ELI event for our 30s
 -40s community.
DTSTART;TZID=America/New_York:20191217T200000
DTEND;TZID=America/New_York:20191217T220000
END:VEVENT
END:VCALENDAR
