BEGIN:VCALENDAR
PRODID:-//eluceo/ical//2.0/EN
VERSION:2.0
CALSCALE:GREGORIAN
BEGIN:VEVENT
UID:1b8ed243aa1798e54a7c91b79b8ac6a0
DTSTAMP:20260421T090049Z
SUMMARY:AIPAC club member dinner with Michael Doran and Dr. Sharon Goldman
DESCRIPTION:Jewish Federation of West-Central New Jersey\nCommunity Calenda
 r\nhttps://jfedwcnj.org/calendar/aipac-club-member-dinner-with-michael-dor
 an-and-dr-sharon-goldman-1443358443\n\nAIPAC will be hosting a Club member
  dinner featuring Michael Doran\, Senior Fellow at the Hudson Institute\, 
 and Dr. Sharon Goldman\, AIPAC Northeast Political Director. This is a pri
 vate event.
DTSTART;TZID=America/New_York:20151029T193000
DTEND;TZID=America/New_York:20151029T210000
END:VEVENT
END:VCALENDAR
