BEGIN:VCALENDAR
PRODID:-//eluceo/ical//2.0/EN
VERSION:2.0
CALSCALE:GREGORIAN
BEGIN:VEVENT
UID:014e903e94d8b39019b641b022241d04
DTSTAMP:20260422T213213Z
SUMMARY:AIPAC Annual Event
DESCRIPTION:Jewish Federation of West-Central New Jersey\nCommunity Calenda
 r\nhttps://jfedwcnj.org/calendar/aipac-annual-event-1422376043\n\nAIPAC NJ
  Annual Event
DTSTART;TZID=America/New_York:20150615T190000
DTEND;TZID=America/New_York:20150615T220000
END:VEVENT
END:VCALENDAR
