BEGIN:VCALENDAR
PRODID:-//eluceo/ical//2.0/EN
VERSION:2.0
CALSCALE:GREGORIAN
BEGIN:VEVENT
UID:034937634350dc12829198cd9d190334
DTSTAMP:20260424T155811Z
SUMMARY:Make Your Voice Heard: How to influence those in power through advo
 cacy
DESCRIPTION:Jewish Federation of West-Central New Jersey\nCommunity Calenda
 r\nhttps://jfedwcnj.org/calendar/advocacy-training-part-two\n\nMake Your V
 oice Heard: How to influence those in power through advocacy\n\n \n\nPart
  Two April 25\, 2022\n\nHow to advocate successfully: letters\, e-mails\,
  phone calls\, meetings\n\n \n\nThis sessions will be held at 7pm via Zoo
 m. \n\nFor questions please contact Lauren Edelman at 980-758-2003 or Led
 elman@jfedshaw.org 
DTSTART;TZID=America/New_York:20220425T190000
DTEND;TZID=America/New_York:20220425T210000
END:VEVENT
END:VCALENDAR
