BEGIN:VCALENDAR
PRODID:-//eluceo/ical//2.0/EN
VERSION:2.0
CALSCALE:GREGORIAN
BEGIN:VEVENT
UID:583085e7971a2c04cb2bd09defaaa507
DTSTAMP:20260422T075131Z
SUMMARY:Make your Voice Heard: How to influence  those in power through adv
 ocacy
DESCRIPTION:Jewish Federation of West-Central New Jersey\nCommunity Calenda
 r\nhttps://jfedwcnj.org/calendar/advocacy-training-part-one\n\nMake Your V
 oice Heard: How to influence those in power through advocacy\n\n \n\nPart
  One March 21\, 2022 \n\nWhat is advocacy? Why advocate? What does Federat
 ion advocate for?\n\n \n\nPart Two April 25\, 2022 \n\nHow to advocate su
 ccessfully: letters\, e-mails\, phone calls\, meetings\n\n \n\nBoth sess
 ions will be held at 7pm via Zoom. \n\nFor question  please contact Lau
 ren Edelman at 980-758-2003 or Ledelman@jfedshaw.org 
DTSTART;TZID=America/New_York:20220321T190000
DTEND;TZID=America/New_York:20220321T210000
END:VEVENT
END:VCALENDAR
