BEGIN:VCALENDAR
PRODID:-//eluceo/ical//2.0/EN
VERSION:2.0
CALSCALE:GREGORIAN
BEGIN:VEVENT
UID:d1412c436b4f2861910b46be5ec359fe
DTSTAMP:20260424T164556Z
SUMMARY:Active Shooter Awareness For Religious & Community Leaders
DESCRIPTION:Jewish Federation of West-Central New Jersey\nCommunity Calenda
 r\nhttps://jfedwcnj.org/calendar/active-shooter-awareness-for-religious-co
 mmunity-leaders\n\nActive Shooter Awarenes For Religious & Community Leade
 rs\n\n\nRecognizing potential workplace violence indicators\nActions to ta
 ke to prevent and prepare for potential active shooter incidents\nActions 
 to take when confronted with an active shooter\nWhat to expect from respon
 ding law enforcement officials\nHow to manage the consequences of an activ
 e shooter incident\nClassroom & practical exercises\n\n\n \n\nFree Traini
 ng Dates:\nMonday\, August 22\nand\nTuesday\, August 23\n9 AM - 3 PM...
DTSTART;TZID=America/New_York:20220822T090000
DTEND;TZID=America/New_York:20220822T150000
END:VEVENT
END:VCALENDAR
